BEGIN:VCALENDAR
VERSION:2.0
PRODID:-//HAPPY SAM • Bewegt zum Glück - ECPv5.1.4//NONSGML v1.0//EN
CALSCALE:GREGORIAN
METHOD:PUBLISH
X-WR-CALNAME:HAPPY SAM • Bewegt zum Glück
X-ORIGINAL-URL:https://happysam.ch
X-WR-CALDESC:Veranstaltungen für HAPPY SAM • Bewegt zum Glück
BEGIN:VTIMEZONE
TZID:Europe/Paris
BEGIN:DAYLIGHT
TZOFFSETFROM:+0100
TZOFFSETTO:+0200
TZNAME:CEST
DTSTART:20260329T010000
END:DAYLIGHT
BEGIN:STANDARD
TZOFFSETFROM:+0200
TZOFFSETTO:+0100
TZNAME:CET
DTSTART:20261025T010000
END:STANDARD
END:VTIMEZONE
BEGIN:VEVENT
DTSTART;TZID=Europe/Paris:20260127T194500
DTEND;TZID=Europe/Paris:20260127T210000
DTSTAMP:20260424T162613
CREATED:20260114T092924Z
LAST-MODIFIED:20260114T092924Z
UID:2588-1769543100-1769547600@happysam.ch
SUMMARY:Vinyasa Flow
DESCRIPTION: \nJeden Dienstag von 19.45 – 21.00 Uhr.\nKlicke auf den Link um dich online anzumelden:\nwww.atelieryogart.com \nDie Synthese aus Atem und Bewegung. Ein moderner\, dynamischer Yogastil\, bei der dein Körper von Asana zu Asana (Pose) fliesst und durch eine spezielle Atemtechnik begleitet wird. So werden die athletisch anmutenden Übungen zu einer Meditation in Bewegung\, bei der sich Körper und Geist in Einklang befinden. Die dabei entfachte Hitze wirkt reinigend und heilend auf den Organismus. \n  \n
URL:https://happysam.ch/event/vinyasa-flow-194/
LOCATION:Atelier Yogart\, Uetlibergstrasse 111B / Atelier 7\, Zürich\, 8045\, Schweiz
END:VEVENT
BEGIN:VEVENT
DTSTART;TZID=Europe/Paris:20260129T183000
DTEND;TZID=Europe/Paris:20260129T194500
DTSTAMP:20260424T162613
CREATED:20260114T093237Z
LAST-MODIFIED:20260114T093237Z
UID:2602-1769711400-1769715900@happysam.ch
SUMMARY:Yoga en Español
DESCRIPTION: \nVinyasa Flow 18.30 – 19.45 Uhr. \nLo más característico de este estilo es el elemento del Vinyasa\, en el sentido de coordinar los movimientos con la respiración y enlazar las posturas entre sí con una serie de movimientos y saltos\, con la finalidad de mantener la concentración y el calor. \nSesión ideal para crear y avanzar en tu práctica! \ninscribese > info@happysam.ch \n
URL:https://happysam.ch/event/yoga-en-espanol-58/
LOCATION:Gut Betucht\, Dübendorferstrasse 217\, Zürich\, 8051
END:VEVENT
BEGIN:VEVENT
DTSTART;TZID=Europe/Paris:20260203T194500
DTEND;TZID=Europe/Paris:20260203T210000
DTSTAMP:20260424T162613
CREATED:20260114T092943Z
LAST-MODIFIED:20260114T092943Z
UID:2590-1770147900-1770152400@happysam.ch
SUMMARY:Vinyasa Flow
DESCRIPTION: \nJeden Dienstag von 19.45 – 21.00 Uhr.\nKlicke auf den Link um dich online anzumelden:\nwww.atelieryogart.com \nDie Synthese aus Atem und Bewegung. Ein moderner\, dynamischer Yogastil\, bei der dein Körper von Asana zu Asana (Pose) fliesst und durch eine spezielle Atemtechnik begleitet wird. So werden die athletisch anmutenden Übungen zu einer Meditation in Bewegung\, bei der sich Körper und Geist in Einklang befinden. Die dabei entfachte Hitze wirkt reinigend und heilend auf den Organismus. \n  \n
URL:https://happysam.ch/event/vinyasa-flow-195/
LOCATION:Atelier Yogart\, Uetlibergstrasse 111B / Atelier 7\, Zürich\, 8045\, Schweiz
END:VEVENT
BEGIN:VEVENT
DTSTART;TZID=Europe/Paris:20260205T183000
DTEND;TZID=Europe/Paris:20260205T194500
DTSTAMP:20260424T162613
CREATED:20260114T093300Z
LAST-MODIFIED:20260114T093300Z
UID:2604-1770316200-1770320700@happysam.ch
SUMMARY:Yoga en Español
DESCRIPTION: \nVinyasa Flow 18.30 – 19.45 Uhr. \nLo más característico de este estilo es el elemento del Vinyasa\, en el sentido de coordinar los movimientos con la respiración y enlazar las posturas entre sí con una serie de movimientos y saltos\, con la finalidad de mantener la concentración y el calor. \nSesión ideal para crear y avanzar en tu práctica! \ninscribese > info@happysam.ch \n
URL:https://happysam.ch/event/yoga-en-espanol-59/
LOCATION:Gut Betucht\, Dübendorferstrasse 217\, Zürich\, 8051
END:VEVENT
BEGIN:VEVENT
DTSTART;TZID=Europe/Paris:20260210T194500
DTEND;TZID=Europe/Paris:20260210T210000
DTSTAMP:20260424T162613
CREATED:20260114T093009Z
LAST-MODIFIED:20260114T093009Z
UID:2592-1770752700-1770757200@happysam.ch
SUMMARY:Vinyasa Flow
DESCRIPTION: \nJeden Dienstag von 19.45 – 21.00 Uhr.\nKlicke auf den Link um dich online anzumelden:\nwww.atelieryogart.com \nDie Synthese aus Atem und Bewegung. Ein moderner\, dynamischer Yogastil\, bei der dein Körper von Asana zu Asana (Pose) fliesst und durch eine spezielle Atemtechnik begleitet wird. So werden die athletisch anmutenden Übungen zu einer Meditation in Bewegung\, bei der sich Körper und Geist in Einklang befinden. Die dabei entfachte Hitze wirkt reinigend und heilend auf den Organismus. \n  \n
URL:https://happysam.ch/event/vinyasa-flow-196/
LOCATION:Atelier Yogart\, Uetlibergstrasse 111B / Atelier 7\, Zürich\, 8045\, Schweiz
END:VEVENT
BEGIN:VEVENT
DTSTART;TZID=Europe/Paris:20260212T183000
DTEND;TZID=Europe/Paris:20260212T194500
DTSTAMP:20260424T162613
CREATED:20260114T093549Z
LAST-MODIFIED:20260114T093549Z
UID:2606-1770921000-1770925500@happysam.ch
SUMMARY:Yoga en Español
DESCRIPTION: \nVinyasa Flow 18.30 – 19.45 Uhr. \nLo más característico de este estilo es el elemento del Vinyasa\, en el sentido de coordinar los movimientos con la respiración y enlazar las posturas entre sí con una serie de movimientos y saltos\, con la finalidad de mantener la concentración y el calor. \nSesión ideal para crear y avanzar en tu práctica! \ninscribese > info@happysam.ch \n
URL:https://happysam.ch/event/yoga-en-espanol-60/
LOCATION:Gut Betucht\, Dübendorferstrasse 217\, Zürich\, 8051
END:VEVENT
BEGIN:VEVENT
DTSTART;TZID=Europe/Paris:20260217T194500
DTEND;TZID=Europe/Paris:20260217T210000
DTSTAMP:20260424T162613
CREATED:20260114T093025Z
LAST-MODIFIED:20260114T093025Z
UID:2594-1771357500-1771362000@happysam.ch
SUMMARY:Vinyasa Flow
DESCRIPTION: \nJeden Dienstag von 19.45 – 21.00 Uhr.\nKlicke auf den Link um dich online anzumelden:\nwww.atelieryogart.com \nDie Synthese aus Atem und Bewegung. Ein moderner\, dynamischer Yogastil\, bei der dein Körper von Asana zu Asana (Pose) fliesst und durch eine spezielle Atemtechnik begleitet wird. So werden die athletisch anmutenden Übungen zu einer Meditation in Bewegung\, bei der sich Körper und Geist in Einklang befinden. Die dabei entfachte Hitze wirkt reinigend und heilend auf den Organismus. \n  \n
URL:https://happysam.ch/event/vinyasa-flow-197/
LOCATION:Atelier Yogart\, Uetlibergstrasse 111B / Atelier 7\, Zürich\, 8045\, Schweiz
END:VEVENT
BEGIN:VEVENT
DTSTART;TZID=Europe/Paris:20260219T183000
DTEND;TZID=Europe/Paris:20260219T194500
DTSTAMP:20260424T162613
CREATED:20260114T094011Z
LAST-MODIFIED:20260114T094011Z
UID:2610-1771525800-1771530300@happysam.ch
SUMMARY:Yoga en Español
DESCRIPTION: \nVinyasa Flow 18.30 – 19.45 Uhr. \nLo más característico de este estilo es el elemento del Vinyasa\, en el sentido de coordinar los movimientos con la respiración y enlazar las posturas entre sí con una serie de movimientos y saltos\, con la finalidad de mantener la concentración y el calor. \nSesión ideal para crear y avanzar en tu práctica! \ninscribese > info@happysam.ch \n
URL:https://happysam.ch/event/yoga-en-espanol-62/
LOCATION:Gut Betucht\, Dübendorferstrasse 217\, Zürich\, 8051
END:VEVENT
BEGIN:VEVENT
DTSTART;TZID=Europe/Paris:20260224T194500
DTEND;TZID=Europe/Paris:20260224T210000
DTSTAMP:20260424T162613
CREATED:20260114T093105Z
LAST-MODIFIED:20260114T093105Z
UID:2596-1771962300-1771966800@happysam.ch
SUMMARY:Vinyasa Flow
DESCRIPTION: \nJeden Dienstag von 19.45 – 21.00 Uhr.\nKlicke auf den Link um dich online anzumelden:\nwww.atelieryogart.com \nDie Synthese aus Atem und Bewegung. Ein moderner\, dynamischer Yogastil\, bei der dein Körper von Asana zu Asana (Pose) fliesst und durch eine spezielle Atemtechnik begleitet wird. So werden die athletisch anmutenden Übungen zu einer Meditation in Bewegung\, bei der sich Körper und Geist in Einklang befinden. Die dabei entfachte Hitze wirkt reinigend und heilend auf den Organismus. \n  \n
URL:https://happysam.ch/event/vinyasa-flow-198/
LOCATION:Atelier Yogart\, Uetlibergstrasse 111B / Atelier 7\, Zürich\, 8045\, Schweiz
END:VEVENT
BEGIN:VEVENT
DTSTART;TZID=Europe/Paris:20260226T183000
DTEND;TZID=Europe/Paris:20260226T194500
DTSTAMP:20260424T162613
CREATED:20260114T093736Z
LAST-MODIFIED:20260114T093910Z
UID:2608-1772130600-1772135100@happysam.ch
SUMMARY:Yoga en Español
DESCRIPTION: \nVinyasa Flow 18.30 – 19.45 Uhr. \nLo más característico de este estilo es el elemento del Vinyasa\, en el sentido de coordinar los movimientos con la respiración y enlazar las posturas entre sí con una serie de movimientos y saltos\, con la finalidad de mantener la concentración y el calor. \nSesión ideal para crear y avanzar en tu práctica! \ninscribese > info@happysam.ch \n
URL:https://happysam.ch/event/yoga-en-espanol-61/
LOCATION:Gut Betucht\, Dübendorferstrasse 217\, Zürich\, 8051
END:VEVENT
END:VCALENDAR