BEGIN:VCALENDAR
VERSION:2.0
PRODID:-//HAPPY SAM • Bewegt zum Glück - ECPv5.1.4//NONSGML v1.0//EN
CALSCALE:GREGORIAN
METHOD:PUBLISH
X-WR-CALNAME:HAPPY SAM • Bewegt zum Glück
X-ORIGINAL-URL:https://happysam.ch
X-WR-CALDESC:Veranstaltungen für HAPPY SAM • Bewegt zum Glück
BEGIN:VTIMEZONE
TZID:Europe/Paris
BEGIN:DAYLIGHT
TZOFFSETFROM:+0100
TZOFFSETTO:+0200
TZNAME:CEST
DTSTART:20250330T010000
END:DAYLIGHT
BEGIN:STANDARD
TZOFFSETFROM:+0200
TZOFFSETTO:+0100
TZNAME:CET
DTSTART:20251026T010000
END:STANDARD
END:VTIMEZONE
BEGIN:VEVENT
DTSTART;TZID=Europe/Paris:20250717T183000
DTEND;TZID=Europe/Paris:20250717T194500
DTSTAMP:20260424T174357
CREATED:20250627T114627Z
LAST-MODIFIED:20250627T114722Z
UID:2581-1752777000-1752781500@happysam.ch
SUMMARY:Yoga en Español
DESCRIPTION: \nVinyasa Flow 18.30 – 19.45 Uhr. \nLo más característico de este estilo es el elemento del Vinyasa\, en el sentido de coordinar los movimientos con la respiración y enlazar las posturas entre sí con una serie de movimientos y saltos\, con la finalidad de mantener la concentración y el calor. \nSesión ideal para crear y avanzar en tu práctica! \ninscribese > info@happysam.ch \n
URL:https://happysam.ch/event/yoga-en-espanol-54/
LOCATION:Gut Betucht\, Dübendorferstrasse 217\, Zürich\, 8051
END:VEVENT
END:VCALENDAR