BEGIN:VCALENDAR
VERSION:2.0
PRODID:-//HAPPY SAM • Bewegt zum Glück - ECPv5.1.4//NONSGML v1.0//EN
CALSCALE:GREGORIAN
METHOD:PUBLISH
X-WR-CALNAME:HAPPY SAM • Bewegt zum Glück
X-ORIGINAL-URL:https://happysam.ch
X-WR-CALDESC:Veranstaltungen für HAPPY SAM • Bewegt zum Glück
BEGIN:VTIMEZONE
TZID:Europe/Paris
BEGIN:DAYLIGHT
TZOFFSETFROM:+0100
TZOFFSETTO:+0200
TZNAME:CEST
DTSTART:20250330T010000
END:DAYLIGHT
BEGIN:STANDARD
TZOFFSETFROM:+0200
TZOFFSETTO:+0100
TZNAME:CET
DTSTART:20251026T010000
END:STANDARD
END:VTIMEZONE
BEGIN:VEVENT
DTSTART;TZID=Europe/Paris:20250920T100000
DTEND;TZID=Europe/Paris:20250920T111500
DTSTAMP:20260424T161858
CREATED:20250519T120702Z
LAST-MODIFIED:20250519T120702Z
UID:2558-1758362400-1758366900@happysam.ch
SUMMARY:Summer Yoga
DESCRIPTION:   \nYoga auf der Dachterrasse des Alma Hotels.\natemberaubend\, magisch\, sonnenverwöhnt \n\nWenn die Sonne die Dachterrasse in ein magisches Licht taucht\, gehen Alltagssorgen vergessen – Savasana fühlt sich wie fliegen an. Der nahe See lockt dich mit einem Sprung ins kühle Nass. \n\nKlicke auf den Link um dich online anzumelden:\nwww.yogaklub.ch \n\n\n\nGut zu wissen \n\n\n\nBring bitte deine eigene Matte mit. Solltest du keine haben\, schreib an hallo@yogaklub.ch oder direkt mir. \n\n\nBlöcke und Gurte sind vor Ort. \n\n\nDie Yogastunden finden bei schönem Wetter auf der Dachterrasse des Alma Hotels statt\, bei schlechtem Wetter im Wellness-Raum auf der 5. Etage. \n\n\nEs gibt keine Garderoben im Alma Hotel. Aber eine Toilette im Erdgeschoss falls du dich vor Ort umziehen möchtest. \n\n\nSonnenschutz und Sonnenbrille sind sehr empfehlenswert. \n\n\nNimm Wasser mit\, es kann heiss werden auf der Dachterrasse. \n\n\n\n\n\n\nVinyasa Flow\nDie Synthese aus Atem und Bewegung. Ein moderner\, dynamischer Yogastil\, bei der dein Körper von Asana zu Asana (Pose) fliesst und durch eine spezielle Atemtechnik begleitet wird. So werden die athletisch anmutenden Übungen zu einer Meditation in Bewegung\, bei der sich Körper und Geist in Einklang befinden. Die dabei entfachte Hitze wirkt reinigend und heilend auf den Organismus. \n  \n
URL:https://happysam.ch/event/summer-yoga-18/
LOCATION:Alma Hotel\, Mainaustrasse 24\, 8008 Zürich\, 8008\, Schweiz
END:VEVENT
END:VCALENDAR