BEGIN:VCALENDAR
VERSION:2.0
PRODID:-//HAPPY SAM • Bewegt zum Glück - ECPv5.1.4//NONSGML v1.0//EN
CALSCALE:GREGORIAN
METHOD:PUBLISH
X-WR-CALNAME:HAPPY SAM • Bewegt zum Glück
X-ORIGINAL-URL:https://happysam.ch
X-WR-CALDESC:Veranstaltungen für HAPPY SAM • Bewegt zum Glück
BEGIN:VTIMEZONE
TZID:Europe/Paris
BEGIN:DAYLIGHT
TZOFFSETFROM:+0100
TZOFFSETTO:+0200
TZNAME:CEST
DTSTART:20260329T010000
END:DAYLIGHT
BEGIN:STANDARD
TZOFFSETFROM:+0200
TZOFFSETTO:+0100
TZNAME:CET
DTSTART:20261025T010000
END:STANDARD
END:VTIMEZONE
BEGIN:VEVENT
DTSTART;TZID=Europe/Paris:20260303T194500
DTEND;TZID=Europe/Paris:20260303T211500
DTSTAMP:20260424T143731
CREATED:20260219T125351Z
LAST-MODIFIED:20260219T125351Z
UID:2613-1772567100-1772572500@happysam.ch
SUMMARY:Luna Flow
DESCRIPTION: \nAnmeldung: info@happysam.ch \nInspiriert von Full Moon Circles\, erwartet dich eine Vollmond Sequence mit verschiedenen Atemtechniken und Ying Asanas (Posen) und eine intensive Tanzmeditation mit Ritmo Flow. \n
URL:https://happysam.ch/event/luna-flow-24/
LOCATION:Atelier Yogart\, Uetlibergstrasse 111B / Atelier 7\, Zürich\, 8045\, Schweiz
END:VEVENT
END:VCALENDAR